BEGIN:VCALENDAR
VERSION:2.0
PRODID:-//Rocky Mountain Meditation Group - ECPv6.15.20//NONSGML v1.0//EN
CALSCALE:GREGORIAN
METHOD:PUBLISH
X-ORIGINAL-URL:https://rockymountainmeditationgroup.com
X-WR-CALDESC:Events for Rocky Mountain Meditation Group
REFRESH-INTERVAL;VALUE=DURATION:PT1H
X-Robots-Tag:noindex
X-PUBLISHED-TTL:PT1H
BEGIN:VTIMEZONE
TZID:America/Denver
BEGIN:DAYLIGHT
TZOFFSETFROM:-0700
TZOFFSETTO:-0600
TZNAME:MDT
DTSTART:20250309T090000
END:DAYLIGHT
BEGIN:STANDARD
TZOFFSETFROM:-0600
TZOFFSETTO:-0700
TZNAME:MST
DTSTART:20251102T080000
END:STANDARD
BEGIN:DAYLIGHT
TZOFFSETFROM:-0700
TZOFFSETTO:-0600
TZNAME:MDT
DTSTART:20260308T090000
END:DAYLIGHT
BEGIN:STANDARD
TZOFFSETFROM:-0600
TZOFFSETTO:-0700
TZNAME:MST
DTSTART:20261101T080000
END:STANDARD
BEGIN:DAYLIGHT
TZOFFSETFROM:-0700
TZOFFSETTO:-0600
TZNAME:MDT
DTSTART:20270314T090000
END:DAYLIGHT
BEGIN:STANDARD
TZOFFSETFROM:-0600
TZOFFSETTO:-0700
TZNAME:MST
DTSTART:20271107T080000
END:STANDARD
END:VTIMEZONE
BEGIN:VEVENT
DTSTART;TZID=America/Denver:20260406T173000
DTEND;TZID=America/Denver:20260406T190000
DTSTAMP:20260421T070306
CREATED:20260223T005046Z
LAST-MODIFIED:20260309T223459Z
UID:1275-1775496600-1775502000@rockymountainmeditationgroup.com
SUMMARY:The Soul's Compass: The Power of Mystics\, Artists and the Cosmos: Part 2
DESCRIPTION:The Soul’s Compass: The Power of Mystics\, Artists and the Cosmos \nMondays · 5:30–7:00pm MT · April 6\, May 4\, June 8 – You’re welcome to come for one evening or all sessions.\n \nAre you searching for a way to see yourself and the world that goes deeper than the noise? Longing for wisdom that’s grounded in something real — not just more information\, but a way of knowing that actually changes how you live?\n\nThe Soul’s Compass is an invitation into the contemplative\, relational work of coming home to yourself — through the language of mystics\, artists\, and the cosmos. \nOver four Monday evenings\, we’ll move through the astrological landscape — Sun\, Moon\, Rising\, Saturn and Pluto — not as abstract symbols\, but as lived thresholds of identity\, intuition\, embodiment\, and transformation. Elizabeth weaves mystical wisdom\, artistic expression\, and contemplative practice into teaching that doesn’t just inform — it transmits. You won’t just think differently. You’ll remember something you already knew. \nThis is an introduction to the deeper work that unfolds in Inner Alchemy of Wisdom — but it stands beautifully on its own. Come for one evening or all four. Bring your questions\, your curiosity\, and your willingness to practice. \nThe Sessions:  \nSession 2 — Moon: Soul & Intuition · April 6 \nThe Moon holds your inner landscape — your emotional wisdom\, your cycles\, the parts of you that know before you know. Drawing on feminine wisdom traditions and the artists who have worked with shadow and the unseen\, we’ll tend to the soul’s quieter knowing. \nSession 3 — Rising: Embodiment & Becoming · May 4 \nYour Rising sign is how you meet the world — and how the world meets you. It is the body’s wisdom\, the threshold between inner and outer. Through contemplative practice and the witness of artists who bring inner vision into form\, we’ll explore what it means to be fully present in your own becoming. \nSession 4 — Saturn & Pluto: Transformation & Integration · June 8 \nThe deepest teachers are often the hardest. Saturn asks for structure\, discipline\, and earned authority. Pluto asks for nothing less than death and rebirth. Through the dark night wisdom of the mystics and the artists who have created from the depths\, we’ll meet these thresholds as invitations rather than ordeals. \nInvestment for our community:\n– Full series: $197\n– Single session: $55\nYour spot is not reserved until your payment is received unless you have made other arrangements. \nClick here for Elizabeth’s Venmo  \nQuestions? support@ebjameson.com \nGet to know Elizabeth:\nElizabeth Lightfoot Jameson is a spiritual teacher\, contemplative guide\, ordained priest\, and author whose work lives at the intersection of mystical wisdom\, the heroine’s journey\, and the deep knowing that comes through suffering and transformation. \nFor nearly thirty years\, Elizabeth has guided people through the thresholds that matter most — grief\, rupture\, awakening\, and the slow work of becoming more fully themselves. She draws from Aramaic wisdom traditions\, mystical Christianity\, contemplative practice\, astrology\, dreams\, and the creative arts\, weaving them into teaching that transmits as much as it instructs. People don’t just learn in her presence — they remember something they already knew. \nHer work is grounded in her own journey: the death of her child Bee\, a traumatic brain injury\, the unraveling and reweaving of identity across decades. She teaches from the inside of what she knows — not despite the hard places\, but through them. \nElizabeth lives and teaches in Estes Park\, Colorado. She is the creator of Inner Alchemy of Wisdom\, host of The Remembering Way podcast\, and author of the Substack publication Broken Open. The Soul’s Compass series is an invitation into the contemplative\, relational work that has shaped her life and her teaching for thirty years.
URL:https://rockymountainmeditationgroup.com/event/the-souls-compass-the-power-of-mystics-artists-and-the-cosmos-part-2/
LOCATION:Rocky Mountain Meditation Group – Cabin\, 3333 Little Valley Rd\, Estes Park\, CO\, 80517\, United States
CATEGORIES:Special Event
ORGANIZER;CN="Rocky Mountain Meditation Group":MAILTO:info@rockymountainmeditationgroup.com
END:VEVENT
BEGIN:VEVENT
DTSTART;TZID=America/Denver:20260318T100000
DTEND;TZID=America/Denver:20260318T180000
DTSTAMP:20260421T070306
CREATED:20260219T214407Z
LAST-MODIFIED:20260302T222339Z
UID:1183-1773828000-1773856800@rockymountainmeditationgroup.com
SUMMARY:Special Event: Vibroacoustic Therapy with Chazz
DESCRIPTION:Suggested Donation $20 \nAbout Vibroacoustic Therapy \n\nFor one special day\, Chazz will be bringing her vibroacoustic soundbed to the Rocky Mountain Meditation Group cabin. Members will have the chance to experience a donation-based 30-minute session designed to deepen relaxation\, expand awareness\, and support nervous system regulation through sound and vibration.\n\n\nThis experience blends carefully curated music with gentle\, low-frequency vibration that travels through the body while you lie comfortably on an ergonomic sound bed. Think of it as a meditation you don’t have to “try” to do — your body simply receives. The combination of vibration and sound can help quiet mental chatter\, release stored tension\, and invite a state of calm that feels both grounding and expansive. \nIf you enjoy practices like breathwork\, sound baths\, or binaural beat meditation\, this offering will feel like a natural extension of that work — using technology as a doorway into stillness and inner exploration. Some people experience deep rest or dreamlike imagery\, others feel emotional release or creative insight\, and some simply enjoy a profound sense of peace. Every experience is unique. \n\n\nSessions will be available throughout the day by appointment. Space is limited. \n\nGet to know Chazz!\nChazz Glaze is the love child of Dolly Parton and Mike Tyson (energetically speaking). She is an internationally accredited wellness coach\, which sounds fancy but really just means she’s exceptionally good at helping people stop chasing magic pills and start mastering their lives. Whether it is through personal training sessions to strengthen the physical body or mindset coaching to offer a mental chiropractic reset\, she meets people where they are and helps them take their lives to the next level. \n\n\nYou can usually find Chazz at the intersection of Woo-Woo Lane and Science Street\, and her latest offering of vibroacoustic therapy sessions fits right in the neighborhood: technology meets meditation for a “technodelic” reset. \n\n\nDiscount code for RMMG members:\nChazz has created a discount code for 20% off any single session or package that Rocky Mountain Meditation Group members can use once: RMMG20. \nwww.higherelevationscoaching.com
URL:https://rockymountainmeditationgroup.com/event/special-guest-vibroacoustic-therapy-with-chazz/
LOCATION:Rocky Mountain Meditation Group – Cabin\, 3333 Little Valley Rd\, Estes Park\, CO\, 80517\, United States
CATEGORIES:Special Event
ORGANIZER;CN="Rocky Mountain Meditation Group":MAILTO:info@rockymountainmeditationgroup.com
END:VEVENT
BEGIN:VEVENT
DTSTART;TZID=America/Denver:20260309T173000
DTEND;TZID=America/Denver:20260309T190000
DTSTAMP:20260421T070306
CREATED:20260220T155729Z
LAST-MODIFIED:20260309T223528Z
UID:1245-1773077400-1773082800@rockymountainmeditationgroup.com
SUMMARY:The Soul's Compass: The Power of Mystics\, Artists and the Cosmos Part 1
DESCRIPTION:The Soul’s Compass: The Power of Mystics\, Artists & the Cosmos \nFour Mondays · 5:30–7:00pm MT · March 9\, April 6\, May 4\, June 8 – You’re welcome to come for one evening or all four.\n \nAre you searching for a way to see yourself and the world that goes deeper than the noise? Longing for wisdom that’s grounded in something real — not just more information\, but a way of knowing that actually changes how you live?\n\nThe Soul’s Compass is an invitation into the contemplative\, relational work of coming home to yourself — through the language of mystics\, artists\, and the cosmos. \nOver four Monday evenings\, we’ll move through the astrological landscape — Sun\, Moon\, Rising\, Saturn and Pluto — not as abstract symbols\, but as lived thresholds of identity\, intuition\, embodiment\, and transformation. Elizabeth weaves mystical wisdom\, artistic expression\, and contemplative practice into teaching that doesn’t just inform — it transmits. You won’t just think differently. You’ll remember something you already knew. \nThis is an introduction to the deeper work that unfolds in Inner Alchemy of Wisdom — but it stands beautifully on its own. Come for one evening or all four. Bring your questions\, your curiosity\, and your willingness to practice. \nThe Four Sessions: \nSession 1 — Sun: Essence & Radiance · March 9 \nWhat is the truest thing about you? The Sun in your chart points to your core identity\, your life force\, the divine spark that is uniquely yours. Through the lens of mystics and artists who have wrestled with the luminous self\, we’ll explore what it means to live from your essence rather than your performance. \nSession 2 — Moon: Soul & Intuition · April 6 \nThe Moon holds your inner landscape — your emotional wisdom\, your cycles\, the parts of you that know before you know. Drawing on feminine wisdom traditions and the artists who have worked with shadow and the unseen\, we’ll tend to the soul’s quieter knowing. \nSession 3 — Rising: Embodiment & Becoming · May 4 \nYour Rising sign is how you meet the world — and how the world meets you. It is the body’s wisdom\, the threshold between inner and outer. Through contemplative practice and the witness of artists who bring inner vision into form\, we’ll explore what it means to be fully present in your own becoming. \nSession 4 — Saturn & Pluto: Transformation & Integration · June 8 \nThe deepest teachers are often the hardest. Saturn asks for structure\, discipline\, and earned authority. Pluto asks for nothing less than death and rebirth. Through the dark night wisdom of the mystics and the artists who have created from the depths\, we’ll meet these thresholds as invitations rather than ordeals. \nInvestment for our community:\n– Full series: $197\n– Single session: $55\nYour spot is not reserved until your payment is received unless you have made other arrangements. \nClick here for Elizabeth’s Venmo   \nQuestions? support@ebjameson.com \nGet to know Elizabeth:\nElizabeth Lightfoot Jameson is a spiritual teacher\, contemplative guide\, ordained priest\, and author whose work lives at the intersection of mystical wisdom\, the heroine’s journey\, and the deep knowing that comes through suffering and transformation. \nFor nearly thirty years\, Elizabeth has guided people through the thresholds that matter most — grief\, rupture\, awakening\, and the slow work of becoming more fully themselves. She draws from Aramaic wisdom traditions\, mystical Christianity\, contemplative practice\, astrology\, dreams\, and the creative arts\, weaving them into teaching that transmits as much as it instructs. People don’t just learn in her presence — they remember something they already knew. \nHer work is grounded in her own journey: the death of her child Bee\, a traumatic brain injury\, the unraveling and reweaving of identity across decades. She teaches from the inside of what she knows — not despite the hard places\, but through them. \nElizabeth lives and teaches in Estes Park\, Colorado. She is the creator of Inner Alchemy of Wisdom\, host of The Remembering Way podcast\, and author of the Substack publication Broken Open. The Soul’s Compass series is an invitation into the contemplative\, relational work that has shaped her life and her teaching for thirty years.
URL:https://rockymountainmeditationgroup.com/event/gatherings-for-cosmic-knowing/
LOCATION:Rocky Mountain Meditation Group – Cabin\, 3333 Little Valley Rd\, Estes Park\, CO\, 80517\, United States
CATEGORIES:Special Event
ORGANIZER;CN="Rocky Mountain Meditation Group":MAILTO:info@rockymountainmeditationgroup.com
END:VEVENT
END:VCALENDAR